BEGIN:VCALENDAR
VERSION:2.0
PRODID:-//Chevalier College - ECPv5.0.0.1//NONSGML v1.0//EN
CALSCALE:GREGORIAN
METHOD:PUBLISH
X-WR-CALNAME:Chevalier College
X-ORIGINAL-URL:http://www.chevalier.nsw.edu.au
X-WR-CALDESC:Events for Chevalier College
BEGIN:VTIMEZONE
TZID:Australia/Sydney
BEGIN:STANDARD
TZOFFSETFROM:+1100
TZOFFSETTO:+1000
TZNAME:AEST
DTSTART:20200404T160000
END:STANDARD
BEGIN:DAYLIGHT
TZOFFSETFROM:+1000
TZOFFSETTO:+1100
TZNAME:AEDT
DTSTART:20201003T160000
END:DAYLIGHT
END:VTIMEZONE
BEGIN:VEVENT
DTSTART;VALUE=DATE:20200529
DTEND;VALUE=DATE:20200530
DTSTAMP:20200301T055913
CREATED:20200229T151645Z
LAST-MODIFIED:20200229T151811Z
UID:701562-1590710400-1590796799@www.chevalier.nsw.edu.au
SUMMARY:DAY 10
DESCRIPTION:DAY 10 \n
URL:http://www.chevalier.nsw.edu.au/event/day-10-2/
CATEGORIES:Student
END:VEVENT
BEGIN:VEVENT
DTSTART;VALUE=DATE:20200528
DTEND;VALUE=DATE:20200529
DTSTAMP:20200301T055913
CREATED:20200228T150229Z
LAST-MODIFIED:20200229T151810Z
UID:701514-1590624000-1590710399@www.chevalier.nsw.edu.au
SUMMARY:DAY 9
DESCRIPTION:DAY 9 \n
URL:http://www.chevalier.nsw.edu.au/event/day-9-2/
CATEGORIES:Student
END:VEVENT
BEGIN:VEVENT
DTSTART;VALUE=DATE:20200527
DTEND;VALUE=DATE:20200528
DTSTAMP:20200301T055913
CREATED:20200227T150303Z
LAST-MODIFIED:20200229T151809Z
UID:701463-1590537600-1590623999@www.chevalier.nsw.edu.au
SUMMARY:DAY 8
DESCRIPTION:DAY 8 \n
URL:http://www.chevalier.nsw.edu.au/event/day-8-2/
CATEGORIES:Student
END:VEVENT
BEGIN:VEVENT
DTSTART;VALUE=DATE:20200526
DTEND;VALUE=DATE:20200527
DTSTAMP:20200301T055913
CREATED:20200226T150147Z
LAST-MODIFIED:20200229T151808Z
UID:701408-1590451200-1590537599@www.chevalier.nsw.edu.au
SUMMARY:DAY 7
DESCRIPTION:DAY 7 \n
URL:http://www.chevalier.nsw.edu.au/event/day-7-2/
CATEGORIES:Student
END:VEVENT
BEGIN:VEVENT
DTSTART;VALUE=DATE:20200526
DTEND;VALUE=DATE:20200529
DTSTAMP:20200301T055913
CREATED:20200226T131611Z
LAST-MODIFIED:20200301T050115Z
UID:701399-1590451200-1590710399@www.chevalier.nsw.edu.au
SUMMARY:Chevalier Institute Visit
DESCRIPTION:Chevalier Institute Visit \n
URL:http://www.chevalier.nsw.edu.au/event/chevalier-institute-visit/
CATEGORIES:Staff
END:VEVENT
BEGIN:VEVENT
DTSTART;VALUE=DATE:20200525
DTEND;VALUE=DATE:20200526
DTSTAMP:20200301T055913
CREATED:20200226T131609Z
LAST-MODIFIED:20200301T050114Z
UID:701398-1590364800-1590451199@www.chevalier.nsw.edu.au
SUMMARY:PD Meeting
DESCRIPTION:PD Meeting \n
URL:http://www.chevalier.nsw.edu.au/event/pd-meeting/
CATEGORIES:Staff
END:VEVENT
BEGIN:VEVENT
DTSTART;VALUE=DATE:20200525
DTEND;VALUE=DATE:20200526
DTSTAMP:20200301T055913
CREATED:20200226T131608Z
LAST-MODIFIED:20200301T050111Z
UID:701397-1590364800-1590451199@www.chevalier.nsw.edu.au
SUMMARY:College Board Meeting
DESCRIPTION:College Board Meeting \n
URL:http://www.chevalier.nsw.edu.au/event/college-board-meeting/
CATEGORIES:Staff
END:VEVENT
BEGIN:VEVENT
DTSTART;VALUE=DATE:20200525
DTEND;VALUE=DATE:20200526
DTSTAMP:20200301T055913
CREATED:20200225T144722Z
LAST-MODIFIED:20200229T151804Z
UID:701353-1590364800-1590451199@www.chevalier.nsw.edu.au
SUMMARY:DAY 6
DESCRIPTION:DAY 6 \n
URL:http://www.chevalier.nsw.edu.au/event/day-6-2/
CATEGORIES:Student
END:VEVENT
BEGIN:VEVENT
DTSTART;VALUE=DATE:20200525
DTEND;VALUE=DATE:20200530
DTSTAMP:20200301T055913
CREATED:20200225T144720Z
LAST-MODIFIED:20200229T151803Z
UID:701352-1590364800-1590796799@www.chevalier.nsw.edu.au
SUMMARY:Term 2\, Week 5
DESCRIPTION:Term 2\, Week 5 \n
URL:http://www.chevalier.nsw.edu.au/event/term-2-week-5/
CATEGORIES:Student
END:VEVENT
BEGIN:VEVENT
DTSTART;VALUE=DATE:20200525
DTEND;VALUE=DATE:20200530
DTSTAMP:20200301T055913
CREATED:20200225T003131Z
LAST-MODIFIED:20200301T051712Z
UID:701321-1590364800-1590796799@www.chevalier.nsw.edu.au
SUMMARY:Year 11 Work Placement (Kitchen Operations)
DESCRIPTION:Year 11 Work Placement (Kitchen Operations) \n
URL:http://www.chevalier.nsw.edu.au/event/year-11-work-placement-kitchen-operations/
CATEGORIES:Student
END:VEVENT
BEGIN:VEVENT
DTSTART;VALUE=DATE:20200523
DTEND;VALUE=DATE:20200524
DTSTAMP:20200301T055913
CREATED:20200223T004543Z
LAST-MODIFIED:20200226T103038Z
UID:701228-1590192000-1590278399@www.chevalier.nsw.edu.au
SUMMARY:ISA Winter Round 4
DESCRIPTION:ISA Winter Round 4 \n
URL:http://www.chevalier.nsw.edu.au/event/isa-winter-round-4/
CATEGORIES:Student
END:VEVENT
BEGIN:VEVENT
DTSTART;VALUE=DATE:20200523
DTEND;VALUE=DATE:20200524
DTSTAMP:20200301T055913
CREATED:20200223T004542Z
LAST-MODIFIED:20200226T103037Z
UID:701227-1590192000-1590278399@www.chevalier.nsw.edu.au
SUMMARY:Model United Nations Assembly (MUNA)
DESCRIPTION:Model United Nations Assembly (MUNA) \n
URL:http://www.chevalier.nsw.edu.au/event/model-united-nations-assembly-muna/
CATEGORIES:Student
END:VEVENT
BEGIN:VEVENT
DTSTART;VALUE=DATE:20200522
DTEND;VALUE=DATE:20200523
DTSTAMP:20200301T055913
CREATED:20200222T140153Z
LAST-MODIFIED:20200229T151802Z
UID:701200-1590105600-1590191999@www.chevalier.nsw.edu.au
SUMMARY:DAY 5
DESCRIPTION:DAY 5 \n
URL:http://www.chevalier.nsw.edu.au/event/day-5/
CATEGORIES:Student
END:VEVENT
BEGIN:VEVENT
DTSTART;VALUE=DATE:20200521
DTEND;VALUE=DATE:20200522
DTSTAMP:20200301T055913
CREATED:20200222T140151Z
LAST-MODIFIED:20200229T151801Z
UID:701199-1590019200-1590105599@www.chevalier.nsw.edu.au
SUMMARY:DAY 4
DESCRIPTION:DAY 4 \n
URL:http://www.chevalier.nsw.edu.au/event/day-4/
CATEGORIES:Student
END:VEVENT
BEGIN:VEVENT
DTSTART;VALUE=DATE:20200521
DTEND;VALUE=DATE:20200522
DTSTAMP:20200301T055913
CREATED:20200220T070222Z
LAST-MODIFIED:20200301T050110Z
UID:701080-1590019200-1590105599@www.chevalier.nsw.edu.au
SUMMARY:Briefing (KLA)
DESCRIPTION:Briefing (KLA) \n
URL:http://www.chevalier.nsw.edu.au/event/briefing-kla-2/
CATEGORIES:Staff
END:VEVENT
BEGIN:VEVENT
DTSTART;VALUE=DATE:20200520
DTEND;VALUE=DATE:20200521
DTSTAMP:20200301T055913
CREATED:20200222T140150Z
LAST-MODIFIED:20200229T151800Z
UID:701198-1589932800-1590019199@www.chevalier.nsw.edu.au
SUMMARY:DAY 3
DESCRIPTION:DAY 3 \n
URL:http://www.chevalier.nsw.edu.au/event/day-3/
CATEGORIES:Student
END:VEVENT
BEGIN:VEVENT
DTSTART;VALUE=DATE:20200520
DTEND;VALUE=DATE:20200521
DTSTAMP:20200301T055913
CREATED:20200219T004659Z
LAST-MODIFIED:20200301T051711Z
UID:701005-1589932800-1590019199@www.chevalier.nsw.edu.au
SUMMARY:Year Meetings
DESCRIPTION:Year Meetings \n
URL:http://www.chevalier.nsw.edu.au/event/year-meetings/
CATEGORIES:Student
END:VEVENT
BEGIN:VEVENT
DTSTART;VALUE=DATE:20200519
DTEND;VALUE=DATE:20200520
DTSTAMP:20200301T055913
CREATED:20200222T140149Z
LAST-MODIFIED:20200229T151758Z
UID:701197-1589846400-1589932799@www.chevalier.nsw.edu.au
SUMMARY:DAY 2
DESCRIPTION:DAY 2 \n
URL:http://www.chevalier.nsw.edu.au/event/day-2/
CATEGORIES:Student
END:VEVENT
BEGIN:VEVENT
DTSTART;VALUE=DATE:20200518
DTEND;VALUE=DATE:20200519
DTSTAMP:20200301T055913
CREATED:20200218T154718Z
LAST-MODIFIED:20200229T151757Z
UID:700979-1589760000-1589846399@www.chevalier.nsw.edu.au
SUMMARY:DAY 1
DESCRIPTION:DAY 1 \n
URL:http://www.chevalier.nsw.edu.au/event/day-1/
CATEGORIES:Student
END:VEVENT
BEGIN:VEVENT
DTSTART;VALUE=DATE:20200518
DTEND;VALUE=DATE:20200523
DTSTAMP:20200301T055913
CREATED:20200218T154717Z
LAST-MODIFIED:20200229T151756Z
UID:700978-1589760000-1590191999@www.chevalier.nsw.edu.au
SUMMARY:Term 2\, Week 4
DESCRIPTION:Term 2\, Week 4 \n
URL:http://www.chevalier.nsw.edu.au/event/term-2-week-4/
CATEGORIES:Student
END:VEVENT
BEGIN:VEVENT
DTSTART;VALUE=DATE:20200518
DTEND;VALUE=DATE:20200521
DTSTAMP:20200301T055913
CREATED:20200218T001754Z
LAST-MODIFIED:20200301T051707Z
UID:700940-1589760000-1590019199@www.chevalier.nsw.edu.au
SUMMARY:NAPLAN Year 7
DESCRIPTION:NAPLAN Year 7 \n
URL:http://www.chevalier.nsw.edu.au/event/naplan-year-7/
CATEGORIES:Student
END:VEVENT
BEGIN:VEVENT
DTSTART;VALUE=DATE:20200518
DTEND;VALUE=DATE:20200519
DTSTAMP:20200301T055913
CREATED:20200218T001752Z
LAST-MODIFIED:20200301T051708Z
UID:700939-1589760000-1589846399@www.chevalier.nsw.edu.au
SUMMARY:NAPLAN Year 9
DESCRIPTION:NAPLAN Year 9 \n
URL:http://www.chevalier.nsw.edu.au/event/naplan-year-9-2/
CATEGORIES:Student
END:VEVENT
BEGIN:VEVENT
DTSTART;VALUE=DATE:20200518
DTEND;VALUE=DATE:20200523
DTSTAMP:20200301T055913
CREATED:20200218T001751Z
LAST-MODIFIED:20200301T051709Z
UID:700938-1589760000-1590191999@www.chevalier.nsw.edu.au
SUMMARY:Year 12 Wilderness
DESCRIPTION:Year 12 Wilderness \n
URL:http://www.chevalier.nsw.edu.au/event/year-12-wilderness/
CATEGORIES:Student
END:VEVENT
BEGIN:VEVENT
DTSTART;VALUE=DATE:20200518
DTEND;VALUE=DATE:20200523
DTSTAMP:20200301T055913
CREATED:20200218T001747Z
LAST-MODIFIED:20200301T051706Z
UID:700937-1589760000-1590191999@www.chevalier.nsw.edu.au
SUMMARY:Year 11 Work Placement (Construction/Food & Beverage/Business Services)
DESCRIPTION:Year 11 Work Placement (Construction/Food & Beverage/Business Services) \n
URL:http://www.chevalier.nsw.edu.au/event/year-11-work-placement-construction-food-beverage-business-services/
CATEGORIES:Student
END:VEVENT
BEGIN:VEVENT
DTSTART;VALUE=DATE:20200518
DTEND;VALUE=DATE:20200523
DTSTAMP:20200301T055913
CREATED:20200218T001746Z
LAST-MODIFIED:20200301T051705Z
UID:700936-1589760000-1590191999@www.chevalier.nsw.edu.au
SUMMARY:Merit Review Week
DESCRIPTION:Merit Review Week \n
URL:http://www.chevalier.nsw.edu.au/event/merit-review-week/
CATEGORIES:Student
END:VEVENT
BEGIN:VEVENT
DTSTART;VALUE=DATE:20200518
DTEND;VALUE=DATE:20200519
DTSTAMP:20200301T055913
CREATED:20200218T001601Z
LAST-MODIFIED:20200301T050109Z
UID:700934-1589760000-1589846399@www.chevalier.nsw.edu.au
SUMMARY:KLA and Year 11 Retreat Meetings
DESCRIPTION:KLA and Year 11 Retreat Meetings \n
URL:http://www.chevalier.nsw.edu.au/event/kla-and-year-11-retreat-meetings/
CATEGORIES:Staff
END:VEVENT
BEGIN:VEVENT
DTSTART;VALUE=DATE:20200516
DTEND;VALUE=DATE:20200517
DTSTAMP:20200301T055913
CREATED:20200219T164728Z
LAST-MODIFIED:20200226T103036Z
UID:701042-1589587200-1589673599@www.chevalier.nsw.edu.au
SUMMARY:ISA Winter Round 3
DESCRIPTION:ISA Winter Round 3 \n
URL:http://www.chevalier.nsw.edu.au/event/isa-winter-round-3/
CATEGORIES:Student
END:VEVENT
BEGIN:VEVENT
DTSTART;VALUE=DATE:20200515
DTEND;VALUE=DATE:20200516
DTSTAMP:20200301T055913
CREATED:20200216T151925Z
LAST-MODIFIED:20200229T151755Z
UID:700847-1589500800-1589587199@www.chevalier.nsw.edu.au
SUMMARY:DAY 10
DESCRIPTION:DAY 10 \n
URL:http://www.chevalier.nsw.edu.au/event/day-10/
CATEGORIES:Student
END:VEVENT
BEGIN:VEVENT
DTSTART;VALUE=DATE:20200515
DTEND;VALUE=DATE:20200516
DTSTAMP:20200301T055913
CREATED:20200215T004938Z
LAST-MODIFIED:20200301T051703Z
UID:700769-1589500800-1589587199@www.chevalier.nsw.edu.au
SUMMARY:Year 12 Construction Incursion
DESCRIPTION:Year 12 Construction Incursion \n
URL:http://www.chevalier.nsw.edu.au/event/year-12-construction-incursion/
CATEGORIES:Student
END:VEVENT
BEGIN:VEVENT
DTSTART;VALUE=DATE:20200514
DTEND;VALUE=DATE:20200515
DTSTAMP:20200301T055913
CREATED:20200214T144907Z
LAST-MODIFIED:20200229T151754Z
UID:700750-1589414400-1589500799@www.chevalier.nsw.edu.au
SUMMARY:DAY 9
DESCRIPTION:DAY 9 \n
URL:http://www.chevalier.nsw.edu.au/event/day-9/
CATEGORIES:Student
END:VEVENT
END:VCALENDAR